BEGIN:VCALENDAR
PRODID:NingEventWidget-v1
VERSION:2.0
METHOD:PUBLISH
BEGIN:VEVENT
UID:4320450:Event:56066
DTSTAMP:20260425T125845Z
SUMMARY:Family Movie Night: Coco
DESCRIPTION:Join us for Family Movie Nights Presented by XFINITY featu
 ring Coco on Wednesday, November 7!\nWe're using our Family Movie Nigh
 t as an opportunity to give back to the community! A $3 ticket is requ
 ired for all guests with 100% of the ticket proceeds going to the Rona
 ld McDonald House of Philadelphia!\nJoin us for a night of fun with Co
 co themed activities and crafts, giveaways, and FREE popcorn to watch 
 the movie!\nWe'll also have a themed kids menu available!\nActivities 
 begin at 5pm and the movie begins at 6pm.\nEveryone entering needs a t
 icket and all tickets must be purchased in advance.\nFor more info on 
 The Ronald McDonald House, visit their website here: http://www.philar
 mh.org/\nFREE PARKING! FREE POPCORN!\n\nFor more information visit htt
 p://phillytodo.com/events/family-movie-night-coco
DTSTART:20181107T220000Z
DTEND:20181108T010000Z
CATEGORIES:kids, movie, night
LOCATION:Xfinity Live!
WEBSITE:https://www.ticketfly.com/purchase/event/1767922
URL:https://www.ticketfly.com/purchase/event/1767922
CONTACT:
ORGANIZER;CN="XFINITY Live! Philadelphia":http://phillytodo.com/profil
 e/XFINITYLivePhiladelphia
ATTACH;FMTTYPE="image/jpeg":http://storage.ning.com/topology/rest/1.0/
 file/get/3055014065?profile=original
ATTENDEE;ROLE=REQ-PARTICIPANT;PARTSTAT=ACCEPTED;RSVP=TRUE;CN="XFINITY 
 Live! Philadelphia":http://phillytodo.com/profile/XFINITYLivePhiladelp
 hia
END:VEVENT
END:VCALENDAR
