BEGIN:VCALENDAR
PRODID:NingEventWidget-v1
VERSION:2.0
METHOD:PUBLISH
BEGIN:VEVENT
UID:4320450:Event:54823
DTSTAMP:20260425T115301Z
SUMMARY:Family Movie Night
DESCRIPTION:Join us for Family Movie Nights Presented by XFINITY featu
 ring Beauty and the Beast on Thursday, February 15!We're using our Fam
 ily Movie Night as an opportunity to give back to the community! A $3 
 ticket is required for all guests with 100% of the ticket proceeds goi
 ng to the Ronald McDonald House of Philadelphia!Join us for a night of
  fun with Beauty and the Beast themed activities and crafts, giveaways
 , and FREE popcorn to watch the movie!We'll also have a themed kids me
 nu available!Activities begin at 5pm and the movie begins at 6pm. Ever
 y one entering needs a ticket and all tickets must be purchased in adv
 ance.For more info on The Ronald McDonald House, visit their website h
 ere: http://www.philarmh.org/FREE EVENT! FREE PARKING! FREE POPCORN!\n
 \nFor more information visit http://phillytodo.com/events/family-movie
 -night-1
DTSTART:20180215T220000Z
DTEND:20180216T010000Z
CATEGORIES:kids, event
LOCATION:XFINITY Live! Philadelphia
WEBSITE:http://www.xfinitylive.com/entertainment/event/11801
URL:http://www.xfinitylive.com/entertainment/event/11801
CONTACT:
ORGANIZER;CN="XFINITY Live! Philadelphia":http://phillytodo.com/profil
 e/XFINITYLivePhiladelphia
ATTACH;FMTTYPE="image/jpeg":http://storage.ning.com/topology/rest/1.0/
 file/get/3055010331?profile=original
ATTENDEE;ROLE=REQ-PARTICIPANT;PARTSTAT=ACCEPTED;RSVP=TRUE;CN="XFINITY 
 Live! Philadelphia":http://phillytodo.com/profile/XFINITYLivePhiladelp
 hia
END:VEVENT
END:VCALENDAR
