BEGIN:VCALENDAR
PRODID:NingEventWidget-v1
VERSION:2.0
METHOD:PUBLISH
BEGIN:VEVENT
UID:4320450:Event:48125
DTSTAMP:20260425T133111Z
SUMMARY:Family Day at Woodford Mansion
DESCRIPTION:Woodford Mansion and the Historic Houses of Fairmount Park
  celebrate with a full day of entertainment and activities for childre
 n and their parents. Enjoy an appearance from the one-and-only Phillie
  Phanatic at 10:30 am. At 1 pm, learn how to make a cloud, explore thu
 nder and lightning, and even create snow in a dynamic show about the 
 science of weather from The Franklin Institute. Then transport back t
 o the 18th century with authentic blacksmithing demonstrations all da
 y long. Click here to reserve tickets for Family Day.\n\nFor more info
 rmation visit http://phillytodo.com/events/family-day-at-woodford-mans
 ion
DTSTART:20161204T150000Z
DTEND:20161204T210000Z
CATEGORIES:family, day
LOCATION:Woodford Mansion
WEBSITE:http://holidaysinthepark.com/holiday-events/family-day/
URL:http://holidaysinthepark.com/holiday-events/family-day/
CONTACT:215-229-6115
ORGANIZER:Historic Houses of Fairmount Park
ATTACH;FMTTYPE="image/jpeg":http://storage.ning.com/topology/rest/1.0/
 file/get/3054999110?profile=original
ATTENDEE;ROLE=REQ-PARTICIPANT;PARTSTAT=ACCEPTED;RSVP=TRUE;CN="Bryan Ch
 an":http://phillytodo.com/profile/BryanChan
END:VEVENT
END:VCALENDAR
