BEGIN:VCALENDAR
PRODID:NingEventWidget-v1
VERSION:2.0
METHOD:PUBLISH
BEGIN:VEVENT
UID:4320450:Event:34757
DTSTAMP:20260425T155046Z
SUMMARY:Fall Wine Maker Dinner
DESCRIPTION:Enjoy the flavors of fall at Citron and Rose’s Fall Wine
  Maker Dinner in conjunction with Israel’s Carmel Winery. Indulge in
  a five-course meal that includes Hamachi crudo, roasted lamb chop and
  dark chocolate beet cake plus wine pairings for just $125 per person.
  Citron and Rose chef Karen Nicolas and a Carmel Winery representative
  will be on site to walk you through the experience. You do not want t
 o miss out. Book your reservation now! \n\nFor more information visit
  http://phillytodo.com/events/fall-wine-maker-dinner
DTSTART:20131103T233000Z
DTEND:20131104T023000Z
CATEGORIES:wine, dinner
LOCATION:Citron and Rose
WEBSITE:http://citronandrose.com/menus/wine-dinner/
URL:http://citronandrose.com/menus/wine-dinner/
CONTACT:610-664-4919
ORGANIZER;CN=CashmanAssoc:http://phillytodo.com/profile/CashmanAssoc
ATTACH;FMTTYPE="image/jpeg":
ATTENDEE;ROLE=REQ-PARTICIPANT;PARTSTAT=ACCEPTED;RSVP=TRUE;CN=CashmanAs
 soc:http://phillytodo.com/profile/CashmanAssoc
END:VEVENT
END:VCALENDAR
