BEGIN:VCALENDAR
PRODID:NingEventWidget-v1
VERSION:2.0
METHOD:PUBLISH
BEGIN:VEVENT
UID:4320450:Event:56033
DTSTAMP:20260425T115144Z
SUMMARY:Fall Vegetable Gardening Workshop @ Greensgrow West
DESCRIPTION:Registration Required. Farm your city â€“ get back into th
 e garden this fall! Enjoy fresh food from your garden longer with less
  worries from heat stress, pests and plant diseases. Join Greensgrow s
 taff expert, Ari to learn how to grow a variety of hardy greens and ro
 ot veggies into the colder months.\nAri will focus on planning a healt
 hy fall vegetable garden and techniques for extending the season. Weâ€
 ™ll talk about which veggies to grow, key dates, soil-warming techniqu
 es, how to use hoops and row covers, and best practices to help you se
 t up your fall & winter veggies for success. Ari asks all participants
  to come with a basic layout of their garden and notes on the light it
  gets so we can tailor these season extension tips to your space.\nIn 
 addition to demos and instruction, everyone will go home with informat
 ion on frost and seeding dates, and how planting and harvest timing is
  affected by cold weather. Donâ€™t miss your chance to turn every seas
 on into a growing season!\nAri Rosenberg is a passionate activist work
 ing to create a more just society through community action and organiz
 ing. She has been growing food for 15 years in both rural and urban en
 vironments. She loves teaching a variety of food & gardening workshops
 , and works behind the scenes keeping Greensgrow going as our Finance 
 & Ops manager. When not growing, cooking, or preserving food, you can 
 find her biking or running around the city. Yes, at Greensgrow, even o
 ur Finance & Ops manager is a farmer.\n\nCanâ€™t wait that long? Deird
 re is teaching the same Workshop at our Greeensgrow Farms location, Se
 ptember 22nd!Â \n\nFor more information visit http://phillytodo.com/ev
 ents/fall-vegetable-gardening-workshop-greensgrow-west
DTSTART:20181014T160000Z
DTEND:20181014T173000Z
CATEGORIES:workshop, gardening
LOCATION:Greensgrow West
WEBSITE:https://www.greensgrow.org/event/fall-vegetable-gardening-work
 shop-2/
URL:https://www.greensgrow.org/event/fall-vegetable-gardening-workshop
 -2/
CONTACT:
ORGANIZER:Greensgrow West
ATTACH;FMTTYPE="image/jpeg":
ATTENDEE;ROLE=REQ-PARTICIPANT;PARTSTAT=ACCEPTED;RSVP=TRUE;CN="Greensgr
 ow Farms":http://phillytodo.com/profile/GreensgrowFarms
END:VEVENT
END:VCALENDAR
