BEGIN:VCALENDAR
PRODID:NingEventWidget-v1
VERSION:2.0
METHOD:PUBLISH
BEGIN:VEVENT
UID:4320450:Event:51938
DTSTAMP:20260425T141740Z
SUMMARY:Fall StrEAT Food Festival
DESCRIPTION:Calling all foodies! Come out to historic Main Street on S
 eptember 14 for a chance to indulge your taste buds with everything fr
 om savory BBQ to sweet desserts from over 50 of Philadelphia’s best 
 food trucks! Purchase homemade oils, spices, and jams from gourmet foo
 d vendors, stock up on fresh fruits and vegetables at the farm stand, 
 and visit restaurants and retailers along Main Street for specials. Pa
 rticipating vendors will even be highlighting dishes with this fall’
 s featured ingredient: apples! Bring your friends and family down for 
 this perfect fall activity!\n Check out our Facebook and Website for e
 vent details.\n\nFor more information visit http://phillytodo.com/even
 ts/fall-streat-food-festival-1
DTSTART:20170914T210000Z
DTEND:20170915T010000Z
CATEGORIES:food, festival, fall, autumn
LOCATION:Main Street in Manayunk
WEBSITE:http://manayunk.com/news-and-events/events/fall-streat-food-fe
 stival.html
URL:http://manayunk.com/news-and-events/events/fall-streat-food-festiv
 al.html
CONTACT:215-482-9565
ORGANIZER;CN="Manayunk Development Corporation":http://phillytodo.com/
 profile/ManayunkDevelopmentCorporation
ATTACH;FMTTYPE="image/jpeg":http://storage.ning.com/topology/rest/1.0/
 file/get/3055004608?profile=original
ATTENDEE;ROLE=REQ-PARTICIPANT;PARTSTAT=ACCEPTED;RSVP=TRUE;CN="Manayunk
  Development Corporation":http://phillytodo.com/profile/ManayunkDevelo
 pmentCorporation
END:VEVENT
END:VCALENDAR
