BEGIN:VCALENDAR
PRODID:NingEventWidget-v1
VERSION:2.0
METHOD:PUBLISH
BEGIN:VEVENT
UID:4320450:Event:38143
DTSTAMP:20260425T173505Z
SUMMARY:Fall Pruning Workshop
DESCRIPTION:Fall Pruning Workshop â€¢ October 4 Â â€¢ 12â€“2pm â€¢ $30
 .00\nRegistration Required. Join Lisa Rubens, one of Greensgrows Horti
 culture Specialists, as she walks you through the the ins and out of f
 all pruning in the city. From street trees through shrubs she will giv
 e instruction what plants to prune in the Fall and to prune in the Spr
 ing.\nÂ \nWeâ€™ll discuss removing dead wood, crossing branches, when 
 and where to make your cuts to keep your plantings looking great. Youâ
 €™ll learn how to clean and care for your tools so they don't spread d
 iseases in your yard. Please bring gloves, pruners, safety glasses if 
 you have them.\nÂ \nEveryone will receive a $15.00 Greensgrow Gift Car
 d after the class.\nÂ \nContact: nursery@greensgrow.org\nLocation: Gre
 ensgrow Farms, 2501 East Cumberland Street\nRegister: http://www.green
 sgrow.org/event/fall-pruning-workshop/\n\nFor more information visit h
 ttp://phillytodo.com/events/fall-pruning-workshop
DTSTART:20141004T160000Z
DTEND:20141004T180000Z
CATEGORIES:gardening, workshop
LOCATION:Greensgrow Farms
WEBSITE:http://www.greensgrow.org/event/fall-pruning-workshop/
URL:http://www.greensgrow.org/event/fall-pruning-workshop/
CONTACT:215.427.2702
ORGANIZER;CN="Greensgrow Farms":http://phillytodo.com/profile/Greensgr
 owFarms
ATTACH;FMTTYPE="image/jpeg":
ATTENDEE;ROLE=REQ-PARTICIPANT;PARTSTAT=ACCEPTED;RSVP=TRUE;CN="Greensgr
 ow Farms":http://phillytodo.com/profile/GreensgrowFarms
END:VEVENT
END:VCALENDAR
