BEGIN:VCALENDAR
PRODID:NingEventWidget-v1
VERSION:2.0
METHOD:PUBLISH
BEGIN:VEVENT
UID:4320450:Event:56050
DTSTAMP:20260425T112440Z
SUMMARY:Fall Plant Sale
DESCRIPTION:Stock up for fall! Replenish your garden with native trees
 , shrubs, grasses like curly grass and switchgrass, and fall-blooming 
 wildflowers like goldenrod, asters, and alumroot—all perfect for mig
 rating birds and insects. Members receive 10% off all plants.\n\nFor m
 ore information visit http://phillytodo.com/events/fall-plant-sale
DTSTART:20180922T130000Z
DTEND:20180922T170000Z
CATEGORIES:sale, plants
LOCATION:Schuylkill Center for Environmental Education
WEBSITE:http://www.schuylkillcenter.org/blog/event/fall-plant-sale/
URL:http://www.schuylkillcenter.org/blog/event/fall-plant-sale/
CONTACT:215-482-7300
ORGANIZER;CN="The Schuylkill Center":http://phillytodo.com/profile/Ann
 aLehrMueser
ATTACH;FMTTYPE="image/jpeg":http://storage.ning.com/topology/rest/1.0/
 file/get/3055014006?profile=original
ATTENDEE;ROLE=REQ-PARTICIPANT;PARTSTAT=ACCEPTED;RSVP=TRUE;CN="The Schu
 ylkill Center":http://phillytodo.com/profile/AnnaLehrMueser
END:VEVENT
END:VCALENDAR
