BEGIN:VCALENDAR
PRODID:NingEventWidget-v1
VERSION:2.0
METHOD:PUBLISH
BEGIN:VEVENT
UID:4320450:Event:20303
DTSTAMP:20260425T141429Z
SUMMARY:Fall Harvest Week Presented by the SJ Hot Chefs
DESCRIPTION:The South Jersey Independent Restaurant Association (bette
 r known as the SJ Hot Chefs) is spicing up their traditional bi-annual
  restaurant week this fall as they host their first ever Fall Harvest 
 Week from October 30th through November 4th.  Over 30 restaurants wil
 l offer special farm to table inspired menus created from the autumn h
 arvest of local farmers and fishermen.  For just $35, ($25 at select 
 restaurants), guests will have the opportunity to enjoy specially prep
 ared four-course menus.\n\nFor more information visit http://phillytod
 o.com/events/fall-harvest-week-presented-by-the-sj-hot-chefs
DTSTART:20111030T150000Z
DTEND:20111104T160000Z
CATEGORIES:fall, harvest, restaurant, week
LOCATION:South Jersey
WEBSITE:http://www.sjhotchefs.com/restweek/
URL:http://www.sjhotchefs.com/restweek/
CONTACT:
ORGANIZER:
ATTACH;FMTTYPE="image/jpeg":http://storage.ning.com/topology/rest/1.0/
 file/get/3054957668?profile=original
ATTENDEE;ROLE=REQ-PARTICIPANT;PARTSTAT=ACCEPTED;RSVP=TRUE;CN="Becky Le
 vin":http://phillytodo.com/profile/BeckyLevin
END:VEVENT
END:VCALENDAR
