BEGIN:VCALENDAR
PRODID:NingEventWidget-v1
VERSION:2.0
METHOD:PUBLISH
BEGIN:VEVENT
UID:4320450:Event:56040
DTSTAMP:20260425T125026Z
SUMMARY:Fall Gallery Opening: Art in the Open
DESCRIPTION:Our fall gallery show features artworks created as part of
  Art in the Open, a public art program in which selected artists crea
 te their work on the Schuylkill Banks for three days in May. Ten artis
 ts working in a range of media will present work in our gallery and on
  our trails. Enjoy artist talks, light refreshments, and a guided walk
  to the outdoor installations at the reception.\nParticipating artists
 :\nRobert Beam Sylvie BucherMatt Greco and Chris EspositoSivan Ilan
 Jennifer JohnsonAnki KingMia RosenthalKaren SingerKatie TackmanChristo
 pher Wood\nMore information about the exhibition \nABOUT ART IN THE O
 PEN\nAiO is a biennial citywide event that celebrates artists, their i
 nspirations for creating art, and their relationships with the urban e
 nvironment. This year, 30 artists were selected by jury to utilize the
  Schuylkill River Banks as their studios, making their creative proces
 s accessible to everyone. Working over the course of three days (May 1
 3–15, 2016), these artists infused the River Trail—from the histor
 ic Fairmount Water Works to South Street—with art, inspiring new way
 s of seeing the river and Philadelphia. For more details, visit artin
 theopenphila.org.  \n\nFor more information visit http://phillytodo.c
 om/events/fall-gallery-opening-art-in-the-open
DTSTART:20180913T220000Z
DTEND:20180914T000000Z
CATEGORIES:art, gallery
LOCATION:The Schuylkill Center for Environmental Education
WEBSITE:http://www.schuylkillcenter.org/blog/event/fall-gallery-openin
 g-art-in-the-open/
URL:http://www.schuylkillcenter.org/blog/event/fall-gallery-opening-ar
 t-in-the-open/
CONTACT:2154827300
ORGANIZER:
ATTACH;FMTTYPE="image/jpeg":http://storage.ning.com/topology/rest/1.0/
 file/get/3055013781?profile=original
ATTENDEE;ROLE=REQ-PARTICIPANT;PARTSTAT=ACCEPTED;RSVP=TRUE;CN="The Schu
 ylkill Center":http://phillytodo.com/profile/AnnaLehrMueser
END:VEVENT
END:VCALENDAR
