BEGIN:VCALENDAR
PRODID:NingEventWidget-v1
VERSION:2.0
METHOD:PUBLISH
BEGIN:VEVENT
UID:4320450:Event:58914
DTSTAMP:20260425T141413Z
SUMMARY:Fall for the Arts Festival
DESCRIPTION:The 35th annual Fall for the Arts Festival returns to Ches
 tnut Hill, transforming Germantown Avenue into a marketplace for all t
 hings handmade, both art and craft. About 25,000 people stroll along t
 he Avenue to admire juried artwork from more than 150 talented exhibit
 ors and 20 new artists.\n\nFor more information visit http://phillytod
 o.com/events/fall-for-the-arts-festival
DTSTART:20190929T150000Z
DTEND:20190929T230000Z
CATEGORIES:festival
LOCATION:Germantown Avenue
WEBSITE:
URL:
CONTACT:https://chestnuthillpa.com/events/fall-arts-festival-2019/
ORGANIZER;CN="Bryan Chan":http://phillytodo.com/profile/BryanChan
ATTACH;FMTTYPE="image/jpeg":https://storage.ning.com/topology/rest/1.0
 /file/get/3551425640?profile=original
ATTENDEE;ROLE=REQ-PARTICIPANT;PARTSTAT=ACCEPTED;RSVP=TRUE;CN="Bryan Ch
 an":http://phillytodo.com/profile/BryanChan
END:VEVENT
END:VCALENDAR
