BEGIN:VCALENDAR
PRODID:NingEventWidget-v1
VERSION:2.0
METHOD:PUBLISH
BEGIN:VEVENT
UID:4320450:Event:52023
DTSTAMP:20260425T160911Z
SUMMARY:Fall for the Arts Festival 2017
DESCRIPTION:Fall into Autumn with The Chestnut Hill Fall for the Arts 
 Festival! All are invited to enjoy a day filled with art, music, culin
 ary delights, and boutique shopping. Germantown Avenue will be transfo
 rmed into an outdoor arts and crafts marketplace, and will serve as a 
 backdrop for over 150 artists from here to as far away as New Mexico. 
 The Makers Village will be back for its third consecutive year and wil
 l celebrate both the beauty of a finished piece of art as well as the 
 act of making it. Stroll down the avenue (closed to all traffic!) and 
 enjoy an array of artistic choices like watercolors and wood crafts, l
 ive entertainment, and even children’s rides and activities! Admissi
 on to the festival is free. Rain date is October 1, 2017.\n\nFor more 
 information visit http://phillytodo.com/events/fall-for-the-arts-festi
 val-2017
DTSTART:20170924T150000Z
DTEND:20170924T210000Z
CATEGORIES:arts, festival, family
LOCATION:Chestnut Hill
WEBSITE:https://chestnuthillpa.com/events/fall-for-the-arts-festival/
URL:https://chestnuthillpa.com/events/fall-for-the-arts-festival/
CONTACT:
ORGANIZER;CN="Bryan Chan":http://phillytodo.com/profile/BryanChan
ATTACH;FMTTYPE="image/jpeg":http://storage.ning.com/topology/rest/1.0/
 file/get/3055009420?profile=original
ATTENDEE;ROLE=REQ-PARTICIPANT;PARTSTAT=ACCEPTED;RSVP=TRUE;CN="Bryan Ch
 an":http://phillytodo.com/profile/BryanChan
END:VEVENT
END:VCALENDAR
