BEGIN:VCALENDAR
PRODID:NingEventWidget-v1
VERSION:2.0
METHOD:PUBLISH
BEGIN:VEVENT
UID:4320450:Event:41824
DTSTAMP:20260425T142547Z
SUMMARY:Fall Birdseed Sale
DESCRIPTION:Save on birdseed, seed mixes, and suet—in quantities fro
 m 4-50 lb. bags. Members receive 20% off birdseed; non-members receive
  10% off birdseed. Ensure you get the quantity of birdseed you need b
 y ordering in advance: call 215-482-7300, x 127 by September 18.  Mo
 re about birdseed here.\nAlso stop by our fall native plant sale (
 10% off for members).\n\nFor more information visit http://phillytodo.
 com/events/fall-birdseed-sale
DTSTART:20150926T130000Z
DTEND:20150926T203000Z
CATEGORIES:sale, birdseed
LOCATION:Schuylkill Center for Environmental Education
WEBSITE:http://www.schuylkillcenter.org/
URL:http://www.schuylkillcenter.org/
CONTACT:215-482-7300, x110
ORGANIZER;CN="The Schuylkill Center":http://phillytodo.com/profile/Ann
 aLehrMueser
ATTACH;FMTTYPE="image/jpeg":http://storage.ning.com/topology/rest/1.0/
 file/get/3054990475?profile=original
ATTENDEE;ROLE=REQ-PARTICIPANT;PARTSTAT=ACCEPTED;RSVP=TRUE;CN="The Schu
 ylkill Center":http://phillytodo.com/profile/AnnaLehrMueser
END:VEVENT
END:VCALENDAR
