BEGIN:VCALENDAR
PRODID:NingEventWidget-v1
VERSION:2.0
METHOD:PUBLISH
BEGIN:VEVENT
UID:4320450:Event:51977
DTSTAMP:20260425T124912Z
SUMMARY:Fall Birdseed Sale
DESCRIPTION:Come to the Schuylkill Center and save on birdseed, seed m
 ixes, and suet—in quantities from 4-50 lb. bags. Members receive 20%
  off birdseed and non-members receive 10% off birdseed. To ensure you 
 get the quantity of birdseed you need place your order in advance by c
 alling 215-482-7300, x 127 by Friday, September 8. While you’re pick
 ing up your birdseed stop in and browse our great selection of bird fe
 eders, birdhouses and nature gifts.\nMore on birdseed here.\nThe orde
 r form for this year’s fall sale can be downloaded here: Schuylkill
  Center September 2017 Birdseed Sale\nNot a member? Join today!\n\nFo
 r more information visit http://phillytodo.com/events/fall-birdseed-sa
 le-1
DTSTART:20170923T130000Z
DTEND:20170923T200000Z
CATEGORIES:birdseed, sale
LOCATION:Schuylkill Center for Environmental Education
WEBSITE:http://www.schuylkillcenter.org/blog/event/fall-birdseed-sale-
 3/
URL:http://www.schuylkillcenter.org/blog/event/fall-birdseed-sale-3/
CONTACT:2154827300
ORGANIZER;CN="The Schuylkill Center":http://phillytodo.com/profile/Ann
 aLehrMueser
ATTACH;FMTTYPE="image/jpeg":http://storage.ning.com/topology/rest/1.0/
 file/get/3055004159?profile=original
ATTENDEE;ROLE=REQ-PARTICIPANT;PARTSTAT=ACCEPTED;RSVP=TRUE;CN="The Schu
 ylkill Center":http://phillytodo.com/profile/AnnaLehrMueser
END:VEVENT
END:VCALENDAR
