BEGIN:VCALENDAR
PRODID:NingEventWidget-v1
VERSION:2.0
METHOD:PUBLISH
BEGIN:VEVENT
UID:4320450:Event:38793
DTSTAMP:20260425T143454Z
SUMMARY:Fairmount Park Holly Trolley
DESCRIPTION:Fairmount Park Holly Trolley will run Saturday, December 6
 , 10 am – 5 pm with a snow date on Saturday, December 13, 10 am – 
 4 pm. The Fairmount Park Conservancy celebrates the holidays and with 
 a visit the Park’s magnificent historic mansions, decked for the sea
 son, aboard a FREE Holly Trolley loop.  Guests are invited to hop on 
 and off the FREE Holly Trolley and visit one, two, or all six houses t
 o enjoy the charming decorations and special programming. Tickets are 
 required for house tours, $5 per person per house\n\nFor more informat
 ion visit http://phillytodo.com/events/fairmount-park-holly-trolley
DTSTART:20141206T150000Z
DTEND:20141206T220000Z
CATEGORIES:holiday, tours
LOCATION:Fairmount Park, 6 Locations
WEBSITE:http://www.parkcharms.com
URL:http://www.parkcharms.com
CONTACT:215-685-0274
ORGANIZER;CN="Cari Feiler Bender":http://phillytodo.com/profile/CariFe
 ilerBender
ATTACH;FMTTYPE="image/jpeg":http://storage.ning.com/topology/rest/1.0/
 file/get/3054980735?profile=original
ATTENDEE;ROLE=REQ-PARTICIPANT;PARTSTAT=ACCEPTED;RSVP=TRUE;CN="Cari Fei
 ler Bender":http://phillytodo.com/profile/CariFeilerBender
END:VEVENT
END:VCALENDAR
