BEGIN:VCALENDAR
PRODID:NingEventWidget-v1
VERSION:2.0
METHOD:PUBLISH
BEGIN:VEVENT
UID:4320450:Event:34955
DTSTAMP:20260425T173711Z
SUMMARY:Fairmount Park Holiday Open Houses
DESCRIPTION:December 5 - 8 and 12 - 15, 10 am - 4 pm, Thursday – Sun
 day\n\nEnjoy the Fairmount Park Houses at your own pace during the Ope
 n Houses. The tours, a cherished Philadelphia tradition, will feature 
 six of the park’s treasured charms – Cedar Grove, Mount Pleasant, 
 Laurel Hill, Lemon Hill, Strawberry Mansion, and Woodford Mansion – 
 festively decorated to create a stunning holiday experience. Guides ar
 e available at each house to answer questions and explain the unique h
 istory of each of these gems.  Reservations are not required. Free pa
 rking is available at all of the houses.\n \n$5 per person per house;
  children 12 and under are free.\nFairmount Park, 6 Locations, www.par
 kcharms.com\n\nFor more information visit http://phillytodo.com/events
 /fairmount-park-holiday-open-houses
DTSTART:20131205T150000Z
DTEND:20131208T210000Z
CATEGORIES:holiday, open, houses
LOCATION:Fairmount Park
WEBSITE:http://www.parkcharms.com
URL:http://www.parkcharms.com
CONTACT:
ORGANIZER;CN="Cari Feiler Bender":http://phillytodo.com/profile/CariFe
 ilerBender
ATTACH;FMTTYPE="image/jpeg":http://storage.ning.com/topology/rest/1.0/
 file/get/3054970737?profile=original
ATTENDEE;ROLE=REQ-PARTICIPANT;PARTSTAT=ACCEPTED;RSVP=TRUE;CN="Cari Fei
 ler Bender":http://phillytodo.com/profile/CariFeilerBender
END:VEVENT
END:VCALENDAR
