BEGIN:VCALENDAR
PRODID:NingEventWidget-v1
VERSION:2.0
METHOD:PUBLISH
BEGIN:VEVENT
UID:4320450:Event:38923
DTSTAMP:20260425T125030Z
SUMMARY:Fairmount Park Gingerbread House Display
DESCRIPTION:The Fourth Annual Fairmount Park Gingerbread House Display
  will be on view at The Shops at Liberty Place from November 10 until 
 November 21. The entire family will enjoy these 12 deliciously magnifi
 cent gingerbread houses handcrafted by Philadelphia chefs and modeled 
 after Fairmount Park historic sites including Strawberry and Woodford 
 Mansions, Shofuso Japanese House and Garden, and Smith Memorial Playgr
 ound. The Gingerbread House Display is free and open to the public Mon
 day - Saturday, 9:30 am - 7 pm and Sunday 12 - 6 pm. New for 2014, the
  Shofuso Japanese House and Garden will be created in Gingerbread form
 . The Gingerbread House Display’s presenting sponsor is the Fairmoun
 t Park Conservancy. \n \n\nFor more information visit http://phillyt
 odo.com/events/fairmount-park-gingerbread-house-display
DTSTART:20141110T143000Z
DTEND:20141122T000000Z
CATEGORIES:special, event
LOCATION:The Shops at Liberty Place
WEBSITE:http://www.parkcharms.com
URL:http://www.parkcharms.com
CONTACT:215-685-0274
ORGANIZER;CN="Cari Feiler Bender":http://phillytodo.com/profile/CariFe
 ilerBender
ATTACH;FMTTYPE="image/jpeg":http://storage.ning.com/topology/rest/1.0/
 file/get/3054980996?profile=original
ATTENDEE;ROLE=REQ-PARTICIPANT;PARTSTAT=ACCEPTED;RSVP=TRUE;CN="Cari Fei
 ler Bender":http://phillytodo.com/profile/CariFeilerBender
END:VEVENT
END:VCALENDAR
