BEGIN:VCALENDAR
PRODID:NingEventWidget-v1
VERSION:2.0
METHOD:PUBLISH
BEGIN:VEVENT
UID:4320450:Event:54832
DTSTAMP:20260425T141301Z
SUMMARY:Fairmount Park Conservancy's 11th Annual Centennial Celebratio
 n
DESCRIPTION:Fairmount Park Conservancyâ€™s 11th Annual Centennial Cele
 bration will take place on Thursday, May 10 at 6 pm at The Horticultur
 e Center located at North Horticultural Drive & Montgomery Drive, Phil
 adelphia. There will be a reception and dinner honoring leading park s
 upporters for their generosity and dedication to all of Philadelphiaâ€
 ™s parks. The John K. Binswanger Park Champion will be awarded to Albe
 rto IbargÃ¼en, President & CEO of the Knight Foundation. The Civic Lea
 dership Award will be presented to Senator Vincent J. Hughes, 7th Sena
 torial District in Pennsylvania. The Corporate Stewardship Award will 
 be given to William J. Marrazzo, President & CEO, WHYY. The reception 
 and silent auction will begin at 6 pm followed by a dinner and a progr
 am at 7:30 pm. myphillypark.org or (215) 988-9334.\n\nFor more informa
 tion visit http://phillytodo.com/events/fairmount-park-conservancy-s-1
 1th-annual-centennial-celebration
DTSTART:20180510T220000Z
DTEND:20180511T030000Z
CATEGORIES:fundraiser
LOCATION:The Horticulture Center
WEBSITE:http://www.phillypark.org
URL:http://www.phillypark.org
CONTACT:215-988-9334
ORGANIZER;CN="Cari Feiler Bender":http://phillytodo.com/profile/CariFe
 ilerBender
ATTACH;FMTTYPE="image/jpeg":http://storage.ning.com/topology/rest/1.0/
 file/get/3055011349?profile=original
ATTENDEE;ROLE=REQ-PARTICIPANT;PARTSTAT=ACCEPTED;RSVP=TRUE;CN="Cari Fei
 ler Bender":http://phillytodo.com/profile/CariFeilerBender
END:VEVENT
END:VCALENDAR
