BEGIN:VCALENDAR
PRODID:NingEventWidget-v1
VERSION:2.0
METHOD:PUBLISH
BEGIN:VEVENT
UID:4320450:Event:36337
DTSTAMP:20260425T123413Z
SUMMARY:Fairmount Flea Market
DESCRIPTION:FAIRMOUNT FLEA MARKET\nLargest Outdoor Vintage Flea Market
  In Center City\nMore Than 200 Vendors Surround The Historic Eastern S
 tate Penitentiary At 22nd & Fairmount\nFeaturing Antique Furniture, Vi
 ntage Jewelry, Clothing & Accessories, Pottery, Art Work, Great Food &
  Much More!\nThis Sat, May 3rd (Rain Date - Sunday)\n8am til 5pm\nFree
  Admission / ATM / Handicap Accessible\nParking Available In The Adjac
 ent Lot At 2201 Fairmount Ave, 19130\nwww.PhilaFleaMarkets.org\n\nFor 
 more information visit http://phillytodo.com/events/fairmount-flea-mar
 ket
DTSTART:20140503T120000Z
DTEND:20140503T210000Z
CATEGORIES:flea, market
LOCATION:Eastern State Penitentiary
WEBSITE:http://www.PhilaFleaMarkets.org
URL:http://www.PhilaFleaMarkets.org
CONTACT:215 - 625 - 3532
ORGANIZER;CN="Phila Flea Markets":http://phillytodo.com/profile/PhilaF
 leaMarkets
ATTACH;FMTTYPE="image/jpeg":http://storage.ning.com/topology/rest/1.0/
 file/get/3054977527?profile=original
ATTENDEE;ROLE=REQ-PARTICIPANT;PARTSTAT=ACCEPTED;RSVP=TRUE;CN="Phila Fl
 ea Markets":http://phillytodo.com/profile/PhilaFleaMarkets
END:VEVENT
END:VCALENDAR
