BEGIN:VCALENDAR
PRODID:NingEventWidget-v1
VERSION:2.0
METHOD:PUBLISH
BEGIN:VEVENT
UID:4320450:Event:38896
DTSTAMP:20260425T114224Z
SUMMARY:Fade to Black Friday II
DESCRIPTION:This Friday, November 28, 2014, BRU Craft & Wurst and Dan 
 Conway will host Fade to Black Friday II, a Black Friday beer extravag
 anza with a specially curated list of dark beers on tap from eleven br
 eweries. Starting at 11:00am, all special beers will be discounted to 
 happy hour pricing of $4-5 until 6:00pm (or they run out). Chef Andrew
  Gaspar is also converting to the dark side with special $5.00 beer-in
 fused bar snacks and sandwiches. As a bonus, BRU will also offer nose-
 to-tail Charcuterie from an Oxbow pig. For more information, call (215
 ) 800-1079, visit www.bruphilly.com, like www.facebook.com/BRUPhilly a
 nd follow @bruphilly on Twitter.  \n \nThe featured drafts include:\
 nCaptain Lawrence Brewing Company - Smoked Porter\nLeft Hand Brewing C
 ompany - Fade to Black\nSmuttynose Brewing Company - Durty\nBrooklyn B
 rewery - Black Chocolate Stout\nBrewery Ommegang - Adoration\nFlying F
 ish Brewing Company - Exit 1\nShawneeCraft Brewing Company - Bourbon B
 arrel Porter\nOskar Blues Brewery - Ten Fiddy\nTroëgs Brewing Company
  - Impending Descent\nFirestone Walker Brewing Co. - Wookey Jack\nPort
  Brewing Company - Santa's Little Helper\n\n\nFor more information vis
 it http://phillytodo.com/events/fade-to-black-friday-ii
DTSTART:20141125T230000Z
DTEND:20141126T000000Z
CATEGORIES:food, "&", drinks
LOCATION:Bru Craft & Wurst
WEBSITE:http://www.bruphilly.com
URL:http://www.bruphilly.com
CONTACT:(215) 800-1079
ORGANIZER:Bru Craft & Wurst
ATTACH;FMTTYPE="image/jpeg":http://storage.ning.com/topology/rest/1.0/
 file/get/3054980449?profile=original
ATTENDEE;ROLE=REQ-PARTICIPANT;PARTSTAT=ACCEPTED;RSVP=TRUE;CN="Aversa P
 R & Events":http://phillytodo.com/profile/KoryAversa277
END:VEVENT
END:VCALENDAR
