BEGIN:VCALENDAR
PRODID:NingEventWidget-v1
VERSION:2.0
METHOD:PUBLISH
BEGIN:VEVENT
UID:4320450:Event:38526
DTSTAMP:20260425T185655Z
SUMMARY:Facing Aging and Death with Grace: A Buddhist Perspective on D
 ying
DESCRIPTION:Learning to face the challenge of loss and separation is a
 n important part of living a healthy life.  Buddha taught that the en
 d of meeting is parting and the end of birth is death. In this course 
 we will explore profound methods to integrate these truths into our da
 ily life, increasing our well-being and happiness and giving us great 
 strength to support our loved ones during times of immense challenge.\
 n$30 per person.\n\nCourse Schedule:\nRegistration: 10:30am-11:00am\nT
 eaching and Meditation: 11:00am-12:30pm\nLunch: 12:30-2:00pm\nTeaching
  and Meditation: 2:00-4:00pm\n\nFor more information visit http://phil
 lytodo.com/events/facing-aging-and-death-with-grace-a-buddhist-perspec
 tive-on-dying
DTSTART:20141115T160000Z
DTEND:20141115T210000Z
CATEGORIES:buddhism, meditation, death, wellness, health, mind
LOCATION:Amitayus Kadampa Buddhist Center
WEBSITE:http://www.meditationinphiladelphia.org/facing-aging-and-death
 -with-grace-a-buddhist-perspective-on-dying/
URL:http://www.meditationinphiladelphia.org/facing-aging-and-death-wit
 h-grace-a-buddhist-perspective-on-dying/
CONTACT:267-702-3817
ORGANIZER;CN="Education Program Coordinator":http://phillytodo.com/pro
 file/EducationProgramCoordinator
ATTACH;FMTTYPE="image/jpeg":
ATTENDEE;ROLE=REQ-PARTICIPANT;PARTSTAT=ACCEPTED;RSVP=TRUE;CN="Educatio
 n Program Coordinator":http://phillytodo.com/profile/EducationProgramC
 oordinator
END:VEVENT
END:VCALENDAR
