BEGIN:VCALENDAR
PRODID:NingEventWidget-v1
VERSION:2.0
METHOD:PUBLISH
BEGIN:VEVENT
UID:4320450:Event:168838
DTSTAMP:20260425T125320Z
SUMMARY:Extra-Human: The Sculpture of Michael Ferris
DESCRIPTION:Extra-Human: The Sculpture of Michael Ferris is an “imme
 rsive exhibition of Michael Ferris’ larger-than-life figurative scul
 ptures.” Trained as a painter, this Bronx, NY-based sculpture artist
  uses an inlay technique of his own making, inspired by intarsia woodw
 orking from his Middle-Eastern heritage. Fusing reclaimed discarded wo
 od and pigmented grout, these larger-than-life figurative sculptures e
 mbody a rich fusion of cultural and artistic traditions. The exhibitio
 n, guest-curated by Suzanne Ramljak, features many new works that cele
 brate the heroism of the people in our everyday lives.\n\nFor more inf
 ormation visit http://phillytodo.com/events/extra-human-the-sculpture-
 of-michael-ferris
DTSTART:20211105T040000Z
DTEND:20220424T035900Z
CATEGORIES:exhibition
LOCATION:The Center for Art in Wood
WEBSITE:https://centerforartinwood.org
URL:https://centerforartinwood.org
CONTACT:2159238000
ORGANIZER:
ATTACH;FMTTYPE="image/jpeg":https://storage.ning.com/topology/rest/1.0
 /file/get/9593421101?profile=original
ATTENDEE;ROLE=REQ-PARTICIPANT;PARTSTAT=ACCEPTED;RSVP=TRUE;CN="Bryan Ch
 an":http://phillytodo.com/profile/BryanChan
END:VEVENT
END:VCALENDAR
