BEGIN:VCALENDAR
PRODID:NingEventWidget-v1
VERSION:2.0
METHOD:PUBLISH
BEGIN:VEVENT
UID:4320450:Event:1972
DTSTAMP:20260425T173514Z
SUMMARY:Express Yourself GayBINGO!
DESCRIPTION:Express Yourself GayBINGO! – Channel your inner Madonna!
 \nHosted by: Carlota Ttendant and the BVDs\n\nFor more information vis
 it http://phillytodo.com/events/express-yourself-gaybingo
DTSTART:20110219T230000Z
DTEND:20110220T040000Z
CATEGORIES:fundraiser, bingo
LOCATION:The Gershman Y
WEBSITE:http://www.aidsfundphilly.org
URL:http://www.aidsfundphilly.org
CONTACT:215-731-9255
ORGANIZER;CN="Cari Feiler Bender":http://phillytodo.com/profile/CariFe
 ilerBender
ATTACH;FMTTYPE="image/jpeg":
ATTENDEE;ROLE=REQ-PARTICIPANT;PARTSTAT=ACCEPTED;RSVP=TRUE;CN="Cari Fei
 ler Bender":http://phillytodo.com/profile/CariFeilerBender
END:VEVENT
END:VCALENDAR
