BEGIN:VCALENDAR
PRODID:NingEventWidget-v1
VERSION:2.0
METHOD:PUBLISH
BEGIN:VEVENT
UID:4320450:Event:60806
DTSTAMP:20260425T112838Z
SUMMARY:Exiled with Exile Presents: A Reading of R. Eric Thomas’ “
 Human Resources”
DESCRIPTION:Join Theatre Exile for a virtual script reading of R. Eric
  Thomas’ wildly unique and quirky play, “Human Resources.” Theat
 re Exile Artistic Producer Brey Ann Barrett will direct the satire, wh
 ich, with the help of four talented actors with several sock puppets, 
 will have you laughing throughout the 45-minue run time.\n“Human Res
 ources” takes place after a company merger and follows a corporate d
 rone that starts to notice strange things about the new coworkers. The
 y’ve got peculiar ways of doing things, and they’re excessively za
 ny. They might be puppets. Actual puppets.\n\nFor more information vis
 it http://phillytodo.com/events/exiled-with-exile-presents-a-reading-o
 f-r-eric-thomas-human
DTSTART:20200730T230000Z
DTEND:20200731T000000Z
CATEGORIES:virtual, play
LOCATION:Zoom
WEBSITE:https://theatreexile.org/exiled-with-exile/
URL:https://theatreexile.org/exiled-with-exile/
CONTACT:215-218-4022
ORGANIZER;CN="Bryan Chan":http://phillytodo.com/profile/BryanChan
ATTACH;FMTTYPE="image/jpeg":https://storage.ning.com/topology/rest/1.0
 /file/get/7134024281?profile=original
ATTENDEE;ROLE=REQ-PARTICIPANT;PARTSTAT=ACCEPTED;RSVP=TRUE;CN="Bryan Ch
 an":http://phillytodo.com/profile/BryanChan
END:VEVENT
END:VCALENDAR
