BEGIN:VCALENDAR
PRODID:NingEventWidget-v1
VERSION:2.0
METHOD:PUBLISH
BEGIN:VEVENT
UID:4320450:Event:59517
DTSTAMP:20260425T124850Z
SUMMARY:Exhibition IX
DESCRIPTION:Sasha Phyars-Burgess and Guanyu Xu are the winning artists
  of the Contemporary Photography Competition and Exhibition IX, and th
 eir work will be featured in a new exhibition, Contemporary Photograph
 y Exhibition IX, at Philadelphia Photo Arts Center from December 12 to
  February 22, 2020. Dan Leers, Curator of Photography at the Carnegie 
 Museum of Art, selected Phyars-Burgess and Xu from 252 artists from ar
 ound the globe who responded to Philadelphia Photo Art Center’s (PPA
 C) annual call for entries. Both artists create layered multimedia ins
 tallations that explore assumptions about race, representation, and se
 xual normativity.\n\nFor more information visit http://phillytodo.com/
 events/exhibition-ix
DTSTART:20191212T150000Z
DTEND:20200222T230000Z
CATEGORIES:gallery
LOCATION:Philadelphia Photo Arts Center
WEBSITE:http://Website: https://www.philaphotoarts.org/event/contempor
 ary-exhibition-ix/
URL:http://Website: https://www.philaphotoarts.org/event/contemporary-
 exhibition-ix/
CONTACT:215.232.5678
ORGANIZER;CN="Bryan Chan":http://phillytodo.com/profile/BryanChan
ATTACH;FMTTYPE="image/jpeg":https://storage.ning.com/topology/rest/1.0
 /file/get/3712993736?profile=original
ATTENDEE;ROLE=REQ-PARTICIPANT;PARTSTAT=ACCEPTED;RSVP=TRUE;CN="Bryan Ch
 an":http://phillytodo.com/profile/BryanChan
END:VEVENT
END:VCALENDAR
