BEGIN:VCALENDAR
PRODID:NingEventWidget-v1
VERSION:2.0
METHOD:PUBLISH
BEGIN:VEVENT
UID:4320450:Event:31651
DTSTAMP:20260425T124912Z
SUMMARY:Exclusive VIP Spring Menu Tasting & Wine Pairing
DESCRIPTION:Join us for an Exclusive VIP Spring Menu Tasting & Wine Pa
 iring at the brand new Harvest Seasonal Grill & Wine Bar in Philadelph
 ia on Thursday, April 18th from 6-9PM.  Grab a friend or co-worker an
 d join us for a special, exclusive VIP menu tasting & wine tasting exp
 erience.  Includes samples of 8 complimentary wines delectably paired
  with Harvest’s new Spring menu.\n \nRSVP & Full Details:  http:/
 /www.UpcomingEvents.com/event/14259/ptodo/\n\nFor more information vis
 it http://phillytodo.com/events/exclusive-vip-spring-menu-tasting-wine
 -pairing
DTSTART:20130418T220000Z
DTEND:20130419T010000Z
CATEGORIES:exclusive, vip, menu, tasting, "&", wine, fundraiser, food,
  dinner
LOCATION:Harvest Seasonal Grill & Wine Bar
WEBSITE:http://www.UpcomingEvents.com/event/14259/ptodo/
URL:http://www.UpcomingEvents.com/event/14259/ptodo/
CONTACT:
ORGANIZER;CN="UpcomingEvents.com":http://phillytodo.com/profile/Upcomi
 ngEventscom
ATTACH;FMTTYPE="image/jpeg":http://storage.ning.com/topology/rest/1.0/
 file/get/3054964955?profile=original
ATTENDEE;ROLE=REQ-PARTICIPANT;PARTSTAT=ACCEPTED;RSVP=TRUE;CN="Adam Ryb
 arczyk @FoodPhreak":http://phillytodo.com/profile/AdamRybarczyk
ATTENDEE;ROLE=REQ-PARTICIPANT;PARTSTAT=ACCEPTED;RSVP=TRUE;CN="Upcoming
 Events.com":http://phillytodo.com/profile/UpcomingEventscom
END:VEVENT
END:VCALENDAR
