BEGIN:VCALENDAR
PRODID:NingEventWidget-v1
VERSION:2.0
METHOD:PUBLISH
BEGIN:VEVENT
UID:4320450:Event:36604
DTSTAMP:20260425T190523Z
SUMMARY:Everyday Mysteries: Recent paintings by Terrence Laragione
DESCRIPTION:First Friday Art Opening!!!\nNew paintings of Trolleys, Bu
 nnies and other surrealistic scenes of the dark and mysterious underbe
 lly of South Kensington.\nThere will be food, beer, wine, and perhaps 
 answers to a few of life's mysteries...\n\nFor more information visit 
 http://phillytodo.com/events/everyday-mysteries-recent-paintings-by-te
 rrence-laragione
DTSTART:20140404T210000Z
DTEND:20140405T000000Z
CATEGORIES:art, "&", entertainment
LOCATION:Buzz Cafe Philly
WEBSITE:http://www.buzzcafephilly.com
URL:http://www.buzzcafephilly.com
CONTACT:2158056612
ORGANIZER;CN="Terrence Laragione":http://phillytodo.com/profile/Terren
 ceLaragione
ATTACH;FMTTYPE="image/jpeg":http://storage.ning.com/topology/rest/1.0/
 file/get/3054973972?profile=original
ATTENDEE;ROLE=REQ-PARTICIPANT;PARTSTAT=ACCEPTED;RSVP=TRUE;CN="Terrence
  Laragione":http://phillytodo.com/profile/TerrenceLaragione
END:VEVENT
END:VCALENDAR
