BEGIN:VCALENDAR
PRODID:NingEventWidget-v1
VERSION:2.0
METHOD:PUBLISH
BEGIN:VEVENT
UID:4320450:Event:55964
DTSTAMP:20260425T130943Z
SUMMARY:\"Every Brilliant Thing\" at Arden Theatre Company
DESCRIPTION:Embraced by audiences and hailed by critics, Scott Greer r
 eturns in this moving, insightful, and hilarious one-man show that exa
 mines what makes life worth living following a sold-out run this seaso
 n. Running from November 8th through December 16th, 2018. \n\n\n\nBy 
 Duncan Macmillan with Jonny Donahoe\nDirected by Terrence J. Nolen\nBo
 b and Selma Horan Studio Theatre, Hamilton Family Arts Center\n\nFor m
 ore information visit http://phillytodo.com/events/every-brilliant-thi
 ng-at-arden-theatre-company
DTSTART:20181110T000000Z
DTEND:20181224T000000Z
CATEGORIES:"theatre/performing", arts
LOCATION:Arden Theatre Company
WEBSITE:https://ardentheatre.org/event/every-brilliant-thing-2018/2018
 -11-08/#tickets
URL:https://ardentheatre.org/event/every-brilliant-thing-2018/2018-11-
 08/#tickets
CONTACT:215.922.1122
ORGANIZER;CN="Arden Theatre Company":http://phillytodo.com/profile/Ard
 enTheatreCompany
ATTACH;FMTTYPE="image/jpeg":http://storage.ning.com/topology/rest/1.0/
 file/get/3055015465?profile=original
ATTENDEE;ROLE=REQ-PARTICIPANT;PARTSTAT=ACCEPTED;RSVP=TRUE;CN="Arden Th
 eatre Company":http://phillytodo.com/profile/ArdenTheatreCompany
END:VEVENT
END:VCALENDAR
