BEGIN:VCALENDAR
PRODID:NingEventWidget-v1
VERSION:2.0
METHOD:PUBLISH
BEGIN:VEVENT
UID:4320450:Event:44971
DTSTAMP:20260425T125756Z
SUMMARY:Everclear at Valley Forge Music Fair
DESCRIPTION:Valley Forge Casino Resort (1160 First Avenue) welcomes ge
 neration-spanning, rock ‘n roll powerhouse Everclear to Valley Forge
  Music Fair on Friday, March 25, 2016. The 90s hitmakers, known for 
 Santa Monica,” “Everything to Everyone” and “I Will Buy You a
  New Life,” will perform songs from their ninth studio album Black i
 s the New Black. Doors open at 7:00pm and the show begins at 8:00pm. T
 ickets are on sale now for $30.00 to $80.00 on Ticketmaster. Visit www
 .vfcasino.com for more information.\n\nFor more information visit http
 ://phillytodo.com/events/everclear-at-valley-forge-music-fair
DTSTART:20160325T230000Z
DTEND:20160327T030000Z
CATEGORIES:concert
LOCATION:Valley Forge Casino Resort
WEBSITE:https://vfcasino.com/events/everclear/
URL:https://vfcasino.com/events/everclear/
CONTACT:610-354-8245
ORGANIZER;CN="Aversa PR & Events":http://phillytodo.com/profile/KoryAv
 ersa277
ATTACH;FMTTYPE="image/jpeg":http://storage.ning.com/topology/rest/1.0/
 file/get/3054991106?profile=original
ATTENDEE;ROLE=REQ-PARTICIPANT;PARTSTAT=ACCEPTED;RSVP=TRUE;CN="Aversa P
 R & Events":http://phillytodo.com/profile/KoryAversa277
END:VEVENT
END:VCALENDAR
