BEGIN:VCALENDAR
PRODID:NingEventWidget-v1
VERSION:2.0
METHOD:PUBLISH
BEGIN:VEVENT
UID:4320450:Event:1954
DTSTAMP:20260425T130434Z
SUMMARY:Evan Marz Stand Up Comedy Debut at Helium
DESCRIPTION:Evan Marz, Author of Dirty Sanchez Nation: The Ultimate Il
 lustrated DICKtionary of Obscene Sex Terms will be making his Stand Up
  Comedy debut 4pm at Helium Comedy Club on Aug 28, 2010. Come see this
  legend in the making before he rises to superstardom. His best sellin
 g book from www.DirtySanchezNation.com was featured on Howard Stern Ne
 ws, Smash Bros. Radio and Uncensored Net Noise. Evan combines edgy sar
 casm with bluntness and will be sure to have you laughing hysterically
 .\n\nFor more information visit http://phillytodo.com/events/evan-marz
 -stand-up-comedy
DTSTART:20100828T200000Z
DTEND:20100828T230000Z
CATEGORIES:stand, up, comedy
LOCATION:Helium Comedy Club
WEBSITE:http://www.dirtysancheznation.com
URL:http://www.dirtysancheznation.com
CONTACT:610-675-7619
ORGANIZER:
ATTACH;FMTTYPE="image/jpeg":http://storage.ning.com/topology/rest/1.0/
 file/get/3054950475?profile=original
ATTENDEE;ROLE=REQ-PARTICIPANT;PARTSTAT=ACCEPTED;RSVP=TRUE;CN="Evan Mar
 z":http://phillytodo.com/profile/EvanMarz
END:VEVENT
END:VCALENDAR
