BEGIN:VCALENDAR
PRODID:NingEventWidget-v1
VERSION:2.0
METHOD:PUBLISH
BEGIN:VEVENT
UID:4320450:Event:28305
DTSTAMP:20260425T173458Z
SUMMARY:Erdy McHenry Architecture Open House
DESCRIPTION:Like guacamole? Interested in design? What about a staff w
 ho takes their work seriously but also knows how to have a good time? 
 Well, then you'll probably like us too.  Come share a drink and some l
 ight fiesta fare with us on October 11th from 6:00-9:00pm. We're hosti
 ng an Open House as part of Design Philadelphia, and we'd love to see 
 you there!\n\nFor more information visit http://phillytodo.com/events/
 erdy-mchenry-architecture-open-house
DTSTART:20121011T220000Z
DTEND:20121012T010000Z
CATEGORIES:open, house, party
LOCATION:Northern Liberties
WEBSITE:
URL:
CONTACT:2159257000
ORGANIZER;CN="Erdy McHenry Architecture":http://phillytodo.com/profile
 /ErdyMcHenryArchitecture
ATTACH;FMTTYPE="image/jpeg":
ATTENDEE;ROLE=REQ-PARTICIPANT;PARTSTAT=ACCEPTED;RSVP=TRUE;CN="Erdy McH
 enry Architecture":http://phillytodo.com/profile/ErdyMcHenryArchitectu
 re
END:VEVENT
END:VCALENDAR
