BEGIN:VCALENDAR
PRODID:NingEventWidget-v1
VERSION:2.0
METHOD:PUBLISH
BEGIN:VEVENT
UID:4320450:Event:42316
DTSTAMP:20260425T114100Z
SUMMARY:Equivocation
DESCRIPTION:“Shagspeare,” a playwright in London in 1605, (yep, th
 at’s the one) receives a royal commission to write a historical play
  about a treasonous act. But the government’s side of the story just
  isn’t adding up. Now Shag must navigate the dangerous politics betw
 een writing a lie (and losing his soul), or writing the truth (and los
 ing his head!). Hailed as the “must see show of the season,”Equivo
 cation is full of witty allusions to some of the Bard’s greatest wo
 rks, and is a smart, contemporary and bold new look at our greatest pl
 aywright ever.\n\nFor more information visit http://phillytodo.com/eve
 nts/equivocation
DTSTART:20151023T000000Z
DTEND:20151214T030000Z
CATEGORIES:theatre
LOCATION:Arden Theatre Company
WEBSITE:http://www.ardentheatre.org/
URL:http://www.ardentheatre.org/
CONTACT:2159221122
ORGANIZER;CN="Arden Theatre Company":http://phillytodo.com/profile/Ard
 enTheatreCompany
ATTACH;FMTTYPE="image/jpeg":http://storage.ning.com/topology/rest/1.0/
 file/get/3054989991?profile=original
ATTENDEE;ROLE=REQ-PARTICIPANT;PARTSTAT=ACCEPTED;RSVP=TRUE;CN="Arden Th
 eatre Company":http://phillytodo.com/profile/ArdenTheatreCompany
END:VEVENT
END:VCALENDAR
