BEGIN:VCALENDAR
PRODID:NingEventWidget-v1
VERSION:2.0
METHOD:PUBLISH
BEGIN:VEVENT
UID:4320450:Event:169502
DTSTAMP:20260425T124850Z
SUMMARY:Environmental Effects Symposium
DESCRIPTION:CraftNOW’s 2021 symposium, Environmental Effects, will e
 xamine how communities and interiors shape our experiences, when susta
 inability issues are highlighted through craft, and the greater impact
  of our contemporary material culture. CraftNOW will host a series of 
 presentations complemented by shorter, moderated discussions led by cu
 rators, experts, and artists throughout the afternoon. The symposium w
 ill culminate in a keynote address from Dr. Kelli Morgan, a curator, e
 ducator, and social justice activist specializing in American art and 
 visual culture.\n\nFor more information visit http://phillytodo.com/ev
 ents/environmental-effects-symposium
DTSTART:20211105T213000Z
DTEND:20211105T230000Z
CATEGORIES:symposium
LOCATION:Center for Architecture
WEBSITE:http://www.craftnowphila.org/symposium/
URL:http://www.craftnowphila.org/symposium/
CONTACT:
ORGANIZER:En Route Marketing
ATTACH;FMTTYPE="image/jpeg":https://storage.ning.com/topology/rest/1.0
 /file/get/9722860474?profile=original
ATTENDEE;ROLE=REQ-PARTICIPANT;PARTSTAT=ACCEPTED;RSVP=TRUE;CN="Bryan Ch
 an":http://phillytodo.com/profile/BryanChan
END:VEVENT
END:VCALENDAR
