BEGIN:VCALENDAR
PRODID:NingEventWidget-v1
VERSION:2.0
METHOD:PUBLISH
BEGIN:VEVENT
UID:4320450:Event:1110
DTSTAMP:20260425T130609Z
SUMMARY:ENTERTAINER OF THE YEAR 2010
DESCRIPTION:Wednesday, March 24th, See who will be crowned the 2010 En
 tertainer of the Year!\n\nCelebrity Guest Judges, Astonishing Performa
 nces and more!\n\nSelect Open Bar and Gourmet Appetizers begin at 7pm.
 \n\nTo reserve a table contact 215-625-2800x101 or info@delilahs.com.\
 n\nOfficial After Party at Zee Bar, Dress is upscale and fashionable.\
 n\nFor more information visit http://phillytodo.com/events/entertainer
 -of-the-year-2010
DTSTART:20100324T230000Z
DTEND:20100325T060000Z
CATEGORIES:contest
LOCATION:Delilah's
WEBSITE:http://www.delilahs.com
URL:http://www.delilahs.com
CONTACT:215-625-2800 x101
ORGANIZER;CN="Delilah's":http://phillytodo.com/profile/Delilahs
ATTACH;FMTTYPE="image/jpeg":http://storage.ning.com/topology/rest/1.0/
 file/get/3054946144?profile=original
ATTENDEE;ROLE=REQ-PARTICIPANT;PARTSTAT=ACCEPTED;RSVP=TRUE;CN="Delilah'
 s":http://phillytodo.com/profile/Delilahs
END:VEVENT
END:VCALENDAR
