BEGIN:VCALENDAR
PRODID:NingEventWidget-v1
VERSION:2.0
METHOD:PUBLISH
BEGIN:VEVENT
UID:4320450:Event:45297
DTSTAMP:20260425T142741Z
SUMMARY:Enjoying Relationships Without Pain: A Meditation Day Course
DESCRIPTION:In this course we will learn practical meditation techniqu
 es to increase our love and kindness and help us to feel close to othe
 r people in a relaxed and healthy way. Â Come uncover the warmth and h
 appiness that already exist within your own heart, and learn how to us
 e them in daily life to improve your relationships.\nThis course will 
 be taught by Resident Teacher Gen Tenzin. Everyone is welcome.\n\nSche
 dule:\n11-12:30 Teaching\n12:30-2:00 Lunch Break\n2:00-2:45 Meditation
 \n3:00-4:00 Teaching\n\nCost:\n$30 for non-members; $15 for members\nÂ
  \n\nFor more information visit http://phillytodo.com/events/enjoying-
 relationships-without-pain-a-meditation-day-course
DTSTART:20160514T150000Z
DTEND:20160514T200000Z
CATEGORIES:meditation, class
LOCATION:Kadampa Meditation Center Philadelphia
WEBSITE:http://www.meditationinphiladelphia.org
URL:http://www.meditationinphiladelphia.org
CONTACT:267-702-3817
ORGANIZER;CN="Education Program Coordinator":http://phillytodo.com/pro
 file/EducationProgramCoordinator
ATTACH;FMTTYPE="image/jpeg":http://storage.ning.com/topology/rest/1.0/
 file/get/3054995831?profile=original
ATTENDEE;ROLE=REQ-PARTICIPANT;PARTSTAT=ACCEPTED;RSVP=TRUE;CN="Educatio
 n Program Coordinator":http://phillytodo.com/profile/EducationProgramC
 oordinator
END:VEVENT
END:VCALENDAR
