BEGIN:VCALENDAR
PRODID:NingEventWidget-v1
VERSION:2.0
METHOD:PUBLISH
BEGIN:VEVENT
UID:4320450:Event:39641
DTSTAMP:20260425T132536Z
SUMMARY:Enjoy a Meal, Save a Life
DESCRIPTION:Saving a life is as easy as enjoying a meal or cocktail wi
 th friends! By eating at some of the best restaurants in Philadelphia,
  a portion of your check excluding tax and gratuity will be donated to
  Donors Are Heroes. Come out and enjoy delicious food while also makin
 g an impact on someone’s life. Restaurant hop from happy hour on or 
 stay at one restaurant for the night, your choice! Be sure to mention 
 Donors Are Heroes when making your reservations. Participating restau
 rants include: Barra Rossa, The Prime Rib, Harvest, Doc Magrogan's\n 
 \n\nAbout Donors Are Heroes\nOrgan Donors are Heroes, founded in 2001,
  is a committed group of volunteers supporting the Gift of Life Donor 
 Program and its charitable supporting organization, Transplant Foundat
 ion. Its mission is to raise public awareness around the importance of
  becoming an organ and tissue donor and to dispel the concerns and myt
 hs surrounding this process. To purchase tickets for THE Party or for 
 more information please visit www.donorsareheroestheparty.com, “lik
 e” them on Facebookwww.facebook.com/donorsareheroes or follow them 
 on Twitter @DonorsAreHeroes.\n \nAbout Gift of Life Donor Program\nG
 ift of Life Donor Program is the non-profit organ and tissue donor pro
 gram serving the eastern half of Pennsylvania, southern New Jersey, an
 d Delaware. Since its founding in 1974, Gift of Life has served as the
  link between donors and patients awaiting life-saving transplants, co
 ordinating more than 35,000 organ transplants and over 500,000 tissue 
 transplants. For more information on organ and tissue donation please 
 visit www.donors1.org, “like” them on Facebook at www.facebook.c
 om/donors1 or follow them on Twitter @Donors1.\n\nFor more informati
 on visit http://phillytodo.com/events/enjoy-a-meal-save-a-life
DTSTART:20150211T220000Z
DTEND:20150212T044500Z
CATEGORIES:fundraiser
LOCATION:The Prime Rib
WEBSITE:http://donorsareheroestheparty.com
URL:http://donorsareheroestheparty.com
CONTACT:215-557-8090
ORGANIZER:
ATTACH;FMTTYPE="image/jpeg":http://storage.ning.com/topology/rest/1.0/
 file/get/3054985527?profile=original
ATTENDEE;ROLE=REQ-PARTICIPANT;PARTSTAT=ACCEPTED;RSVP=TRUE;CN=CashmanAs
 soc:http://phillytodo.com/profile/CashmanAssoc
END:VEVENT
END:VCALENDAR
