BEGIN:VCALENDAR
PRODID:NingEventWidget-v1
VERSION:2.0
METHOD:PUBLISH
BEGIN:VEVENT
UID:4320450:Event:49542
DTSTAMP:20260425T125847Z
SUMMARY:Enchanted Forest: Party Beneath the Stars
DESCRIPTION:Join us for a party in our beautiful spring forest while e
 njoying delicious and sustainably-sourced food, refreshments, live mus
 ic, and a raffle with prizes including a vacation rental. Our most im
 portant fundraising event of the year, it’s an enchanted evening in 
 support of our critical mission of connecting people and nature. This 
 year, we’ll be celebrating our work on the critical connection betwe
 en health and nature, offering attendees a special preview of the coll
 aborative NaturePHL initiative launching this summer.\n\nFor more info
 rmation visit http://phillytodo.com/events/enchanted-forest-party-bene
 ath-the-stars
DTSTART:20170519T223000Z
DTEND:20170520T020000Z
CATEGORIES:fundraiser
LOCATION:Schuylkill Center
WEBSITE:http://www.schuylkillcenter.org/blog/event/enchanted-forest-pa
 rty-beneath-the-stars/
URL:http://www.schuylkillcenter.org/blog/event/enchanted-forest-party-
 beneath-the-stars/
CONTACT:215-482-7300
ORGANIZER;CN="The Schuylkill Center":http://phillytodo.com/profile/Ann
 aLehrMueser
ATTACH;FMTTYPE="image/jpeg":http://storage.ning.com/topology/rest/1.0/
 file/get/3055002764?profile=original
ATTENDEE;ROLE=REQ-PARTICIPANT;PARTSTAT=ACCEPTED;RSVP=TRUE;CN="The Schu
 ylkill Center":http://phillytodo.com/profile/AnnaLehrMueser
END:VEVENT
END:VCALENDAR
