BEGIN:VCALENDAR
PRODID:NingEventWidget-v1
VERSION:2.0
METHOD:PUBLISH
BEGIN:VEVENT
UID:4320450:Event:56615
DTSTAMP:20260425T131308Z
SUMMARY:Empower Your Love: The Tantric Empowerment of Buddha Tara
DESCRIPTION:“Homage to you whose two eyes, like the sun or the full 
 moon, radiate a pure, clear light.”\nTara is a manifestation of the 
 ultimate wisdom of all the enlightened beings. Because she is a wisdom
  Buddha and a manifestation of the wind element, she is able to swiftl
 y help us increase our love and bring harmony to our relationships.\nO
 n this day, we will receive Tara empowerment and an explanation and in
 troduction to Tara practice. This practice shows us how to quickly sol
 ve our daily problems through a daily meditation practice. With the pr
 actice of Tara, we use our imagination to recreate our self as a lovin
 g and wise being who cares for others like a mother for her dearest ch
 ild.  Through the power of this pure imagination, we will quickly bec
 ome an enlightened being just like Tara.\nThis empowerment and comment
 ary will be given by Resident Teacher, Gen Tenzin.\n10:30 – 10:55am:
  Registration in Louis Kahn Park (across the street)11am – 12:45pm: 
 Empowerment2:00 – 3:15pm: Commentary3:30 – 4:15pm: Tara Practice\n
 Cost: $60\nEveryone is welcome. No meditation experience is necessary.
 \n\nFor more information visit http://phillytodo.com/events/empower-yo
 ur-love-the-tantric-empowerment-of-buddha-tara-1
DTSTART:20181201T153000Z
DTEND:20181201T211500Z
CATEGORIES:meditation, buddhism
LOCATION:Kadampa Meditation Center Philadelphia
WEBSITE:http://www.meditationinphiladelphia.org/finding-swift-protecti
 on-the-empowerment-of-buddha-tara-dec-1/
URL:http://www.meditationinphiladelphia.org/finding-swift-protection-t
 he-empowerment-of-buddha-tara-dec-1/
CONTACT:267-702-3817
ORGANIZER;CN="Education Program Coordinator":http://phillytodo.com/pro
 file/EducationProgramCoordinator
ATTACH;FMTTYPE="image/jpeg":
ATTENDEE;ROLE=REQ-PARTICIPANT;PARTSTAT=ACCEPTED;RSVP=TRUE;CN="Educatio
 n Program Coordinator":http://phillytodo.com/profile/EducationProgramC
 oordinator
END:VEVENT
END:VCALENDAR
