BEGIN:VCALENDAR
PRODID:NingEventWidget-v1
VERSION:2.0
METHOD:PUBLISH
BEGIN:VEVENT
UID:4320450:Event:39024
DTSTAMP:20260425T160208Z
SUMMARY:ellelauri Grand Opening
DESCRIPTION:http://www.neffassociates.com/ellelauri-grand-opening/\n\n
 RVSP Only\n\nFor more information visit http://phillytodo.com/events/e
 llelauri-grand-opening
DTSTART:20141113T223000Z
DTEND:20141114T013000Z
CATEGORIES:grand, opening
LOCATION:ellelauri
WEBSITE:http://www.ellelauri.com/PublicPages/Home.aspx
URL:http://www.ellelauri.com/PublicPages/Home.aspx
CONTACT:
ORGANIZER;CN="Neff Associates":http://phillytodo.com/profile/NeffAssoc
 iates559
ATTACH;FMTTYPE="image/jpeg":http://storage.ning.com/topology/rest/1.0/
 file/get/3054984020?profile=original
ATTENDEE;ROLE=REQ-PARTICIPANT;PARTSTAT=ACCEPTED;RSVP=TRUE;CN="Neff Ass
 ociates":http://phillytodo.com/profile/NeffAssociates559
END:VEVENT
END:VCALENDAR
