BEGIN:VCALENDAR
PRODID:NingEventWidget-v1
VERSION:2.0
METHOD:PUBLISH
BEGIN:VEVENT
UID:4320450:Event:38687
DTSTAMP:20260425T162637Z
SUMMARY:Edible Gardens & Delicious Weeds
DESCRIPTION:Winter is a great time to dream of spring and plan new pla
 ntings. Â Forager Tama Matsuoka Wong will talk about a different type 
 of garden, one that provides a buffet of delicious wild ingredients. Â
  She will give tips for planning a wild garden in your backyard, what 
 plants (especially weeds) you might expect to emerge first and fine na
 tive species to plant as spring comes, several sold by the Schuylkill 
 Center, and bring treats from her winter foraging, with recipes, inclu
 ding snacks made from pine, hickory, and barberry.\nTama Matsuoka Wong
 Â is the forager for a number of renowned restaurants in the New York 
 City and Philadelphia area. Her work restoring native meadows and eati
 ng wild weeds has been featured in the Wall Street Journal, CBS News, 
 and NPR, among others.Â  Her bookÂ Foraged Flavor, a seasonally organi
 zed field guide on cooking with foraged edibles, was published in 2012
  and nominated for a James Beard award.\nRegister onlineÂ here!\n$20\n
 \nFor more information visit http://phillytodo.com/events/edible-garde
 ns-delicious-weeds
DTSTART:20150110T160000Z
DTEND:20150110T180000Z
CATEGORIES:lecture
LOCATION:The Schuylkill Center for Environmental Education
WEBSITE:http://www.schuylkillcenter.org/
URL:http://www.schuylkillcenter.org/
CONTACT:215-482-7300, x110
ORGANIZER;CN="The Schuylkill Center":http://phillytodo.com/profile/Ann
 aLehrMueser
ATTACH;FMTTYPE="image/jpeg":http://storage.ning.com/topology/rest/1.0/
 file/get/3054980344?profile=original
END:VEVENT
END:VCALENDAR
