BEGIN:VCALENDAR
PRODID:NingEventWidget-v1
VERSION:2.0
METHOD:PUBLISH
BEGIN:VEVENT
UID:4320450:Event:6521
DTSTAMP:20260425T142542Z
SUMMARY:Eddie Alvarez Grappling Championships Powered by Maxercise
DESCRIPTION:\nhttp://www.phillygrappling.com\nBring your Team and comp
 ete for the Championships Cup and your School name will be engraved on
  the Cup to display all year long proud and strong.  We already have 
 commitments from Daddis, Maxercise, Almeida, Gracie, Fight Factory and
  more.\nEvent details:\nDate: Saturday April 2, 2011 8am-7pm\nWhere: T
 he Greater Philadelphia Expo Center\nLocation: 100 Station Rd. Oaks PA
 .\nEvent Type: Brazilian Jiu Jitsu/Grappling Tournament\n \nDivisions
 :\nSame weight classes and age divisions for BJJ, No-Gi!\n \n\n•Kid
 s (5-8)-55 -65, -77, -90, +90lbs\n\n•Kids (9-12)-55,-65, -75, -85, -
 97, -110, +110lbs\n\n•Teens (13-14)-90, -102, -115, -130, -148, +148
 lbs\n\n•Teens (15-17)-115, -130, -145, -154, -165, -175, -185, +185l
 bs\n\n•Adult Men-132 -145, -161, -178, -98, -220, +220lbs\n\n•Adul
 t Women-114, -125, -139, -154, -171, +171lbs\n\n\n \nMen’s and Wome
 n’s MastersLight, Middle, Heavy\n\nFor more information visit http:/
 /phillytodo.com/events/eddie-alvarez-grappling
DTSTART:20110402T040000Z
DTEND:20110403T035900Z
CATEGORIES:bjj, grappling, team, and, individual
LOCATION:Greater Philly Expo Center 100 Station Rd. Oaks PA behind Low
 es
WEBSITE:
URL:
CONTACT:
ORGANIZER;CN="james jefferson":http://phillytodo.com/profile/jamesjeff
 erson
ATTACH;FMTTYPE="image/jpeg":
ATTENDEE;ROLE=REQ-PARTICIPANT;PARTSTAT=ACCEPTED;RSVP=TRUE;CN="james je
 fferson":http://phillytodo.com/profile/jamesjefferson
END:VEVENT
END:VCALENDAR
