BEGIN:VCALENDAR
PRODID:NingEventWidget-v1
VERSION:2.0
METHOD:PUBLISH
BEGIN:VEVENT
UID:4320450:Event:35496
DTSTAMP:20260425T173819Z
SUMMARY:Ed Kowalczyk at Candlelight Concerts for Epilepsy Awareness
DESCRIPTION:A VERY unique night as part of Candlelight Concerts for Ep
 ilepsy Awareness with Ed Kowalczyk formerly of Live performing acousti
 c - I Alone Acoustic. Such a fantastic talent who's responsible for se
 lling over 20 million records! Join us for a great night of music for
  a great cause - spreading facts and raising awareness for epilepsy. S
 urely not to miss. Tickets are only $30 in advance and $35 at the door
 !!Doors at 7:00pmSpecial opening act: Pete Donnelly of The Figgs, NRBQ
  and Soul Asylum\n\nFor more information visit http://phillytodo.com/e
 vents/ed-kowalczyk-at-candlelight-concerts-for-epilepsy-awareness
DTSTART:20140327T230000Z
DTEND:20140328T020000Z
CATEGORIES:charity, concert
LOCATION:Trinity UMC
WEBSITE:http://www.candlelightconcert.org
URL:http://www.candlelightconcert.org
CONTACT:
ORGANIZER;CN="Eric Miller":http://phillytodo.com/profile/EricMiller
ATTACH;FMTTYPE="image/jpeg":http://storage.ning.com/topology/rest/1.0/
 file/get/3054968490?profile=original
ATTENDEE;ROLE=REQ-PARTICIPANT;PARTSTAT=ACCEPTED;RSVP=TRUE;CN="Eric Mil
 ler":http://phillytodo.com/profile/EricMiller
END:VEVENT
END:VCALENDAR
