BEGIN:VCALENDAR
PRODID:NingEventWidget-v1
VERSION:2.0
METHOD:PUBLISH
BEGIN:VEVENT
UID:4320450:Event:4093
DTSTAMP:20260425T160045Z
SUMMARY:Eberle Wine Dinner
DESCRIPTION:Join Davio's, Philadelphia's favorite Northern Italian Ste
 akhouse, for a culinary wine tour of one of the most renowned vineyard
 s in the Paso Robles region of California's picturesque wine country, 
 \"The Eberle Winery.\"\n\nDesigned for oenophiles of all levels, The E
 berle Wine Dinner will feature wine pairings presented by wine represe
 ntatives Robert Flory of Eberle Winery and John Toler of Dreadnought W
 ines. The dinner will feature regionally inspired foods prepared by Ex
 ecutive Chef David Boyle of Davio's such as: Raspberry Point Oysters w
 ith 2008 Syrah Rose, Sautéed Jumbo Shrimp with 2009 Mill Road Viognie
 r and Wild Boar Bolognese paired with 2007 Sangiovese to name a few. F
 rom Rosé to Cabernet, guests will experience the familiar and the une
 xpected from this prestigious winery, one of the top award-winning win
 eries in the country!   This intimate journey will be held at Davio's 
 on Wednesday, February 16th, 2011 at 6:30pm, and for $99.00 per person
  (tax and gratuity included), guests will be treated to a four-course 
 dinner including the various wines to accompany their dining experienc
 e (see menu below). Reservations are highly recommended for this event
  by calling 215-563-4810 today!   Davio's Philadelphia | 111 South 17t
 h Street, Philadelphia, PA 19103 | 215-563-4810 | www.davios.com.\nThe
  wine dinner will be held on Wednesday, February 16th, 2011 at 6:30PM.
     Menu   Hors D'oeuvres  Prima Donna Gougere\n\nRaspberry Point Oyst
 ers  Philly Cheesesteak Spring Rolls ®  2008 Syrah Rosé   First Cour
 se  Sautéed Jumbo Shrimp,  Shellfish Risotto,  Saffron Butter  2009 M
 ill Road Viognier  Second Course  Wild Boar Bolognese  2007 Sangiovese
    Third Course  New Zealand Baby Rack of Lamb,  Butternut Squash Grat
 in, Kale,  Thyme Jus  2007 Steinbeck Vineyard Syrah   Fourth Course  C
 alifornia Cheese  2008 Estate Cabernet    COST: $99 per person (tax an
 d gratuity included). Reservations are necessary. Please call 215-563-
 3005 for more information.\n\nFor more information visit http://philly
 todo.com/events/eberle-wine-dinner
DTSTART:20110216T233000Z
DTEND:20110217T030000Z
CATEGORIES:wine, dinner
LOCATION:Davio's Philadelphia
WEBSITE:http://www.davios.com/phil/event-Eberle-Wine-Dinner.php
URL:http://www.davios.com/phil/event-Eberle-Wine-Dinner.php
CONTACT:
ORGANIZER:Anny D
ATTACH;FMTTYPE="image/jpeg":http://storage.ning.com/topology/rest/1.0/
 file/get/3054954758?profile=original
ATTENDEE;ROLE=REQ-PARTICIPANT;PARTSTAT=ACCEPTED;RSVP=TRUE;CN="Juliette
  V":http://phillytodo.com/profile/JulietteV
END:VEVENT
END:VCALENDAR
