BEGIN:VCALENDAR
PRODID:NingEventWidget-v1
VERSION:2.0
METHOD:PUBLISH
BEGIN:VEVENT
UID:4320450:Event:35826
DTSTAMP:20260425T185512Z
SUMMARY:Eating with Body in Mind
DESCRIPTION:Thursday, March 27, 7 p.m.\nWORKSHOP No. 3: Fats\nWhen th
 e dandelions come up, it’s time to shed Winter’s hibernation layer
 s! This workshop will focus on the importance of healthy fats, sources
  of fats and why saturated fat is not the enemy, digestion, processing
 , heat tolerance and more! The kitchen at Chestnut Hill Friends Meetin
 ghouse, 20 E. Mermaid Lane. RSVP: outreach@weaversway.coop.\n\nFor mor
 e information visit http://phillytodo.com/events/eating-with-body-in-m
 ind
DTSTART:20140327T230000Z
DTEND:20140328T010000Z
CATEGORIES:workshop
LOCATION:Chestnut Hill Friends Meetinghouse
WEBSITE:
URL:
CONTACT:
ORGANIZER:Weavers Way Co-op
ATTACH;FMTTYPE="image/jpeg":
ATTENDEE;ROLE=REQ-PARTICIPANT;PARTSTAT=ACCEPTED;RSVP=TRUE;CN="Mary Swe
 eten":http://phillytodo.com/profile/WeaversWay
END:VEVENT
END:VCALENDAR
