BEGIN:VCALENDAR
PRODID:NingEventWidget-v1
VERSION:2.0
METHOD:PUBLISH
BEGIN:VEVENT
UID:4320450:Event:167947
DTSTAMP:20260425T130555Z
SUMMARY:Easter Lunch at Steak 48 Philadelphia
DESCRIPTION:On Easter Sunday ONLY, Philadelphia’s premier Steakhouse
 , Steak 48 will open its doors early to welcome guests for a special l
 unch alongside usual dinner service.\nSteak 48 will open beginning at 
 12:00 pm - Menu highlights include: Fresh Seafood Raw Bar Tower, a var
 iety of Prime Steaks & Chops with additional add-ons including Black T
 ruffle Sauteed Lobster, Crab Cake, ‘Oscar’ and Crispy Shrimp, sign
 ature sides including Corn Crème Brulee, Praline Sweet Potato, Creamy
  Mac & Cheese, and Kennet Square Mushrooms, Whole Colorado Rack of Lam
 b, Decadent Desserts including Peanut Butter Pie, Crispy Banana Split,
  Ultimate Warm Vanilla Caramel Cake, & more.\n\nFor more information v
 isit http://phillytodo.com/events/easter-lunch-at-steak-48-philadelphi
 a
DTSTART:20210404T160000Z
DTEND:20210405T020000Z
CATEGORIES:lunch
LOCATION:Steak 48
WEBSITE:https://www.steak48.com/steakhouses/philadelphia/
URL:https://www.steak48.com/steakhouses/philadelphia/
CONTACT:2155524848
ORGANIZER;CN=CashmanAssoc:http://phillytodo.com/profile/CashmanAssoc
ATTACH;FMTTYPE="image/jpeg":https://storage.ning.com/topology/rest/1.0
 /file/get/8660402860?profile=original
ATTENDEE;ROLE=REQ-PARTICIPANT;PARTSTAT=ACCEPTED;RSVP=TRUE;CN=CashmanAs
 soc:http://phillytodo.com/profile/CashmanAssoc
END:VEVENT
END:VCALENDAR
