BEGIN:VCALENDAR
PRODID:NingEventWidget-v1
VERSION:2.0
METHOD:PUBLISH
BEGIN:VEVENT
UID:4320450:Event:58302
DTSTAMP:20260425T124853Z
SUMMARY:Easter Brunch
DESCRIPTION:XIX (Nineteen) Restaurant at The Bellevue Hotel invites gu
 ests to celebrate Easter with a classic brunch in a picturesque locati
 on. Chef Jerome Bacle and the XIX team will offer exclusive live actio
 n stations that won’t disappoint; Country Ham, Stuffed Lamb, Poached
  Swordfish, Crab Cake Benedict and made to order omelets and waffles. 
 Enjoy a selection of colorful and delectable desserts inspired by spri
 ng, and take in the sweeping city views from 19 floors above the city.
 \n\nFor more information visit http://phillytodo.com/events/easter-bru
 nch
DTSTART:20190421T150000Z
DTEND:20190421T190000Z
CATEGORIES:holiday, event
LOCATION:The Bellevue Hotel
WEBSITE:https://bit.ly/2HPLWZ3
URL:https://bit.ly/2HPLWZ3
CONTACT:215-790-1919
ORGANIZER:The Bellevue Hotel
ATTACH;FMTTYPE="image/jpeg":https://storage.ning.com/topology/rest/1.0
 /file/get/1765187969?profile=original
ATTENDEE;ROLE=REQ-PARTICIPANT;PARTSTAT=ACCEPTED;RSVP=TRUE;CN="Bryan Ch
 an":http://phillytodo.com/profile/BryanChan
END:VEVENT
END:VCALENDAR
