BEGIN:VCALENDAR
PRODID:NingEventWidget-v1
VERSION:2.0
METHOD:PUBLISH
BEGIN:VEVENT
UID:4320450:Event:39662
DTSTAMP:20260425T142629Z
SUMMARY:Easter Brunch Made EASY: Hands on Cooking Class
DESCRIPTION:Hosting Easter Brunch for the family? Join us for this ent
 ertaining cooking event to test drive incredible recipes for a menu th
 at will have your guests raving! Casseroles, tarts, and bakes using tr
 aditional as well as more modern ingredients will be made. We'll also 
 be sharing time-saving tips for shopping, cooking, and entertaining so
  that you can spend more time enjoying the company of family and frien
 ds instead of fretting in the kitchen the entire time! \nJoin us as w
 e launch hands-on cooking events open to the public based on our ext
 remely popular private cooking events. These are NOT lecture-style c
 lasses that are offered elsewhere. Prepare to have fun, learn new ski
 lls, cook, get a little dirty, and enjoy delicious food with the owne
 r of City Food Tours at a fully-equipped commercial kitchen near Ritte
 nhouse Square.There's limited space so events will fill quickly. No
  skill is necessary, all ingredients, supplies, and equipment is provi
 ded. All events start with a complimentary glass of wine to enjoy as
  the Chef goes over the techniques and menu of the day, then we'll rol
 l up our sleeves and create our own culinary masterpieces. Once ever
 ything comes out of the ovens, everyone will taste all of the creation
 s. There will be plenty of food for a whole meal--not just enough for
  a snack. These events are meant to be social, so whether you come alo
 ne or with a group, expect to make some new friends. All events are g
 eared towards both women and men. A donation to MANNA is included in t
 he ticket price. Guests should be at least 18 years old and be able to
  stand comfortably for most of the event.\n\n\nFor more information vi
 sit http://phillytodo.com/events/easter-brunch-made-easy-hands-on-cook
 ing-class
DTSTART:20150320T223000Z
DTEND:20150321T013000Z
CATEGORIES:cooking, class
LOCATION:MANNA
WEBSITE:https://www.zerve.com/PhillyFoods/Cooking
URL:https://www.zerve.com/PhillyFoods/Cooking
CONTACT:(800) 979-3370
ORGANIZER;CN="Robert Weinberg":http://phillytodo.com/profile/RobertWei
 nberg
ATTACH;FMTTYPE="image/jpeg":http://storage.ning.com/topology/rest/1.0/
 file/get/3054982220?profile=original
ATTENDEE;ROLE=REQ-PARTICIPANT;PARTSTAT=ACCEPTED;RSVP=TRUE;CN="Robert W
 einberg":http://phillytodo.com/profile/RobertWeinberg
END:VEVENT
END:VCALENDAR
