BEGIN:VCALENDAR
PRODID:NingEventWidget-v1
VERSION:2.0
METHOD:PUBLISH
BEGIN:VEVENT
UID:4320450:Event:55009
DTSTAMP:20260425T125025Z
SUMMARY:Easter Brunch at XIX (Nineteen) Restaurant
DESCRIPTION:Join XIX Restaurant in The Bellevue Hotel for brunch with 
 the Easter Bunny. Easter Brunch at XIX is a time-honored Philadelphia 
 tradition, every year families head to The Bellevue Hotel for a delici
 ous and luxurious brunch. Our Chefs are creating a holiday buffet that
  includes an expansive raw bar, assorted salads, a charcuterie selecti
 on full of local cheeses, and assorted breads and bagels. For the main
  course, menu items include Maryland Crab Cake Benedict served with to
 asted sourdough bread, hollandaise sauce, caviar, and green tomato cho
 w chow, Baked Sturgeon served with green beans, watercress risotto wit
 h smoked mussels in sauce viege, Assorted Sushi and Dim Sum...and of c
 ourse Easter eggs and treats for the children! The prix fixe brunch me
 nu is $72 for adults, $36 for children. Please make a reservation in a
 dvance.\n\nFor more information visit http://phillytodo.com/events/eas
 ter-brunch-at-xix-nineteen-restaurant
DTSTART:20180401T150000Z
DTEND:20180402T000000Z
CATEGORIES:easter, celebration, brunch, holiday
LOCATION:XIX (Nineteen) Restaurant
WEBSITE:
URL:
CONTACT:215-790-1919
ORGANIZER;CN="Bryan Chan":http://phillytodo.com/profile/BryanChan
ATTACH;FMTTYPE="image/jpeg":
ATTENDEE;ROLE=REQ-PARTICIPANT;PARTSTAT=ACCEPTED;RSVP=TRUE;CN="Bryan Ch
 an":http://phillytodo.com/profile/BryanChan
END:VEVENT
END:VCALENDAR
