BEGIN:VCALENDAR
PRODID:NingEventWidget-v1
VERSION:2.0
METHOD:PUBLISH
BEGIN:VEVENT
UID:4320450:Event:57508
DTSTAMP:20260425T112546Z
SUMMARY:East Passyunk Restaurant Week
DESCRIPTION:East Passyunk Avenue Business Improvement District (EPABID
 ) presents the 7th Annual East Passyunk Restaurant Week from Monday, F
 ebruary 25 to Friday, March 8, 2019. Twenty-six award-winning restaura
 nts along Philadelphia’s acclaimed restaurant row will serve up thre
 e course, value-priced lunch and dinner menus for $15, $25 and $35 eac
 h. From low key BYOBs to elegant candlelight dining to Italian “red 
 gravy” joints to Mexican street food, East Passyunk Restaurant Week 
 boasts a diversity of dining experiences and cuisines that offer somet
 hing for everyone. Menus for all participating restaurants are now liv
 e at www.eastpassyunkrestaurantweek.com. Reservations for restaurants 
 on OpenTable can be made on OpenTable’s special Restaurant Week page
 , or you can contact restaurants individually for reservations. Mark y
 our calendars and come hungry!\n\nFor more information visit http://ph
 illytodo.com/events/east-passyunk-restaurant-week-2
DTSTART:20190225T050000Z
DTEND:20190309T045900Z
CATEGORIES:food, specials
LOCATION:East Passyunk Avenue, Philadelphia, PA 19148
WEBSITE:https://eastpassyunkrestaurantweek.com
URL:https://eastpassyunkrestaurantweek.com
CONTACT:215-336-1455
ORGANIZER:East Passyunk Avenue Business Improvement District
ATTACH;FMTTYPE="image/jpeg":
ATTENDEE;ROLE=REQ-PARTICIPANT;PARTSTAT=ACCEPTED;RSVP=TRUE;CN="Aversa P
 R & Events":http://phillytodo.com/profile/KoryAversa277
END:VEVENT
END:VCALENDAR
