BEGIN:VCALENDAR
PRODID:NingEventWidget-v1
VERSION:2.0
METHOD:PUBLISH
BEGIN:VEVENT
UID:4320450:Event:35389
DTSTAMP:20260425T144335Z
SUMMARY:East Passyunk Restaurant Week
DESCRIPTION:East Passyunk Avenue announces the return of East Passyunk
  Restaurant Week on Sunday, February 23 through Saturday, March 1, 
 2014.  Twenty-four award-winning restaurants along Philadelphia’s 
 “Best Dining Neighborhood of 2013” will serve up three course, val
 ue-priced brunch, lunch and dinner menus for $15, $25 and $35 each.  
 Specific menus and restaurant availability will officially start to 
 roll out live starting on January 29th at www.eastpassyunkrestaurantw
 eek.com. Mark your calendars and remember to come hungry!\n\nFor more 
 information visit http://phillytodo.com/events/east-passyunk-restauran
 t-week-1
DTSTART:20140223T220000Z
DTEND:20140302T044500Z
CATEGORIES:dining, restaurant, week
LOCATION:East Passyunk Avenue Business Improvement District
WEBSITE:http://eastpassyunkrestaurantweek.com/
URL:http://eastpassyunkrestaurantweek.com/
CONTACT:(215) 840-5214
ORGANIZER;CN="Aversa PR & Events":http://phillytodo.com/profile/KoryAv
 ersa277
ATTACH;FMTTYPE="image/jpeg":http://storage.ning.com/topology/rest/1.0/
 file/get/3054970935?profile=original
ATTENDEE;ROLE=REQ-PARTICIPANT;PARTSTAT=ACCEPTED;RSVP=TRUE;CN="Aversa P
 R & Events":http://phillytodo.com/profile/KoryAversa277
END:VEVENT
END:VCALENDAR
